BEGIN:VCALENDAR
VERSION:2.0
PRODID:Events Booking
BEGIN:VEVENT
UID:69e82039187ef
SUMMARY: Pharma Market Research Conference 2024
DESCRIPTION:The Pharma Market Research Conference comes to the Bay Area\,  
 PMRC is the west coast’s premier gathering of senior-level biotech\, pha
 rmaceutical\, medical devices and diagnostics executives in market researc
 h.
LOCATION:Gateway Boulevard\, South San Francisco\, 94080 California\, Unite
 d States
DTSTART:20240611T183000Z
DTEND:20240612T183000Z
DTSTAMP:20240504T050038Z
ORGANIZER;CN=Pharmaceutical Era:MAILTO:info@pharmaceutical-era.com
GEO:37.655399;-122.400906
X-APPLE-STRUCTURED-LOCATION;VALUE=URI;X-ADDRESS=Gateway Boulevard\, South S
 an Francisco\, 94080 California\, United States;X-APPLE-RADIUS=72;X-TITLE=
 San Francisco:37.655399;-122.400906
END:VEVENT
END:VCALENDAR