BEGIN:VCALENDAR
VERSION:2.0
PRODID:Events Booking
BEGIN:VEVENT
UID:69e81419a1b27
SUMMARY:World Nanotechnology Conference 2026
DESCRIPTION:This event will attract a diverse group of professionals\, incl
 uding researchers\, scholars\, engineers\, and business leaders\, all gath
 ered to discuss nanotechnology’s role in addressing global challenges.
LOCATION:APLAR Congress Secretariat c/o MCI Asia Pacific
DTSTART:20260322T183000Z
DTEND:20260324T183000Z
DTSTAMP:20251121T075924Z
ORGANIZER;CN=Pharmaceutical Era:MAILTO:info@pharmaceutical-era.com
GEO:1.3521;103.8198
X-APPLE-STRUCTURED-LOCATION;VALUE=URI;X-ADDRESS=APLAR Congress Secretariat 
 c/o MCI Asia Pacific;X-APPLE-RADIUS=72;X-TITLE=Singapore:1.3521;103.8198
END:VEVENT
END:VCALENDAR